BEGIN:VCALENDAR
VERSION:2.0
PRODID:-//Glenshire Devonshire - ECPv6.15.14//NONSGML v1.0//EN
CALSCALE:GREGORIAN
METHOD:PUBLISH
X-WR-CALNAME:Glenshire Devonshire
X-ORIGINAL-URL:https://glenshiredevonshire.org
X-WR-CALDESC:Events for Glenshire Devonshire
REFRESH-INTERVAL;VALUE=DURATION:PT1H
X-Robots-Tag:noindex
X-PUBLISHED-TTL:PT1H
BEGIN:VTIMEZONE
TZID:America/Los_Angeles
BEGIN:DAYLIGHT
TZOFFSETFROM:-0800
TZOFFSETTO:-0700
TZNAME:PDT
DTSTART:20250309T100000
END:DAYLIGHT
BEGIN:STANDARD
TZOFFSETFROM:-0700
TZOFFSETTO:-0800
TZNAME:PST
DTSTART:20251102T090000
END:STANDARD
BEGIN:DAYLIGHT
TZOFFSETFROM:-0800
TZOFFSETTO:-0700
TZNAME:PDT
DTSTART:20260308T100000
END:DAYLIGHT
BEGIN:STANDARD
TZOFFSETFROM:-0700
TZOFFSETTO:-0800
TZNAME:PST
DTSTART:20261101T090000
END:STANDARD
BEGIN:DAYLIGHT
TZOFFSETFROM:-0800
TZOFFSETTO:-0700
TZNAME:PDT
DTSTART:20270314T100000
END:DAYLIGHT
BEGIN:STANDARD
TZOFFSETFROM:-0700
TZOFFSETTO:-0800
TZNAME:PST
DTSTART:20271107T090000
END:STANDARD
END:VTIMEZONE
BEGIN:VEVENT
DTSTART;TZID=America/Los_Angeles:20260520T173000
DTEND;TZID=America/Los_Angeles:20260520T190000
DTSTAMP:20260424T050242
CREATED:20251028T145323Z
LAST-MODIFIED:20251028T151004Z
UID:13458-1779298200-1779303600@glenshiredevonshire.org
SUMMARY:Regular Board Meeting
DESCRIPTION:GDRA Regular Board Meeting \nMeeting Log-on: meet.google.com/uup-wksk-goh OR Phone (US)+1 609-438-1384‬PIN: 254 516 657# \nBoard meetings are normally held on 3rd Wednesday of the month\, 5:30pm at the Clubhouse-15726 Glenshire Drive and via video/phone meeting (subject to change)
URL:https://glenshiredevonshire.org/event/regular-board-meeting-7/
CATEGORIES:Board Meeting
END:VEVENT
BEGIN:VEVENT
DTSTART;TZID=America/Los_Angeles:20260617T173000
DTEND;TZID=America/Los_Angeles:20260617T190000
DTSTAMP:20260424T050242
CREATED:20251028T145436Z
LAST-MODIFIED:20251028T151011Z
UID:13460-1781717400-1781722800@glenshiredevonshire.org
SUMMARY:Regular Board Meeting
DESCRIPTION:GDRA Regular Board Meeting \nMeeting Log-on: meet.google.com/uup-wksk-goh OR Phone (US)+1 609-438-1384‬PIN: 254 516 657# \nBoard meetings are normally held on 3rd Wednesday of the month\, 5:30pm at the Clubhouse-15726 Glenshire Drive and via video/phone meeting (subject to change)
URL:https://glenshiredevonshire.org/event/regular-board-meeting-8/
CATEGORIES:Board Meeting
END:VEVENT
BEGIN:VEVENT
DTSTART;TZID=America/Los_Angeles:20260715T173000
DTEND;TZID=America/Los_Angeles:20260715T190000
DTSTAMP:20260424T050242
CREATED:20251028T145513Z
LAST-MODIFIED:20251028T151017Z
UID:13462-1784136600-1784142000@glenshiredevonshire.org
SUMMARY:Regular Board Meeting
DESCRIPTION:GDRA Regular Board Meeting \nMeeting Log-on: meet.google.com/uup-wksk-goh OR Phone (US)+1 609-438-1384‬PIN: 254 516 657# \nBoard meetings are normally held on 3rd Wednesday of the month\, 5:30pm at the Clubhouse-15726 Glenshire Drive and via video/phone meeting (subject to change)
URL:https://glenshiredevonshire.org/event/regular-board-meeting-9/
CATEGORIES:Board Meeting
END:VEVENT
BEGIN:VEVENT
DTSTART;TZID=America/Los_Angeles:20260819T173000
DTEND;TZID=America/Los_Angeles:20260819T190000
DTSTAMP:20260424T050242
CREATED:20251028T145608Z
LAST-MODIFIED:20251028T151023Z
UID:13464-1787160600-1787166000@glenshiredevonshire.org
SUMMARY:Regular Board Meeting
DESCRIPTION:GDRA Regular Board Meeting \nMeeting Log-on: meet.google.com/uup-wksk-goh OR Phone (US)+1 609-438-1384‬PIN: 254 516 657# \nBoard meetings are normally held on 3rd Wednesday of the month\, 5:30pm at the Clubhouse-15726 Glenshire Drive and via video/phone meeting (subject to change)
URL:https://glenshiredevonshire.org/event/regular-board-meeting-10/
CATEGORIES:Board Meeting
END:VEVENT
BEGIN:VEVENT
DTSTART;TZID=America/Los_Angeles:20260916T173000
DTEND;TZID=America/Los_Angeles:20260916T190000
DTSTAMP:20260424T050242
CREATED:20251028T145816Z
LAST-MODIFIED:20251028T151029Z
UID:13466-1789579800-1789585200@glenshiredevonshire.org
SUMMARY:Regular Board Meeting
DESCRIPTION:GDRA Regular Board Meeting \nMeeting Log-on: meet.google.com/uup-wksk-goh OR Phone (US)+1 609-438-1384‬PIN: 254 516 657# \nBoard meetings are normally held on 3rd Wednesday of the month\, 5:30pm at the Clubhouse-15726 Glenshire Drive and via video/phone meeting (subject to change)
URL:https://glenshiredevonshire.org/event/regular-board-meeting-11/
CATEGORIES:Board Meeting
END:VEVENT
BEGIN:VEVENT
DTSTART;TZID=America/Los_Angeles:20261021T173000
DTEND;TZID=America/Los_Angeles:20261021T190000
DTSTAMP:20260424T050242
CREATED:20251028T145935Z
LAST-MODIFIED:20251028T151036Z
UID:13468-1792603800-1792609200@glenshiredevonshire.org
SUMMARY:Regular Board Meeting
DESCRIPTION:GDRA Regular Board Meeting \nMeeting Log-on: meet.google.com/uup-wksk-goh OR Phone (US)+1 609-438-1384‬PIN: 254 516 657# \nBoard meetings are normally held on 3rd Wednesday of the month\, 5:30pm at the Clubhouse-15726 Glenshire Drive and via video/phone meeting (subject to change)
URL:https://glenshiredevonshire.org/event/regular-board-meeting-12/
CATEGORIES:Board Meeting
END:VEVENT
BEGIN:VEVENT
DTSTART;TZID=America/Los_Angeles:20261118T173000
DTEND;TZID=America/Los_Angeles:20261118T190000
DTSTAMP:20260424T050242
CREATED:20251028T150017Z
LAST-MODIFIED:20251028T151043Z
UID:13470-1795023000-1795028400@glenshiredevonshire.org
SUMMARY:Regular Board Meeting
DESCRIPTION:GDRA Regular Board Meeting \nMeeting Log-on: meet.google.com/uup-wksk-goh OR Phone (US)+1 609-438-1384‬PIN: 254 516 657# \nBoard meetings are normally held on 3rd Wednesday of the month\, 5:30pm at the Clubhouse-15726 Glenshire Drive and via video/phone meeting (subject to change)
URL:https://glenshiredevonshire.org/event/regular-board-meeting-13/
CATEGORIES:Board Meeting
END:VEVENT
BEGIN:VEVENT
DTSTART;TZID=America/Los_Angeles:20261216T173000
DTEND;TZID=America/Los_Angeles:20261216T190000
DTSTAMP:20260424T050242
CREATED:20251028T150102Z
LAST-MODIFIED:20251028T151049Z
UID:13472-1797442200-1797447600@glenshiredevonshire.org
SUMMARY:Regular Board Meeting
DESCRIPTION:GDRA Regular Board Meeting \nMeeting Log-on: meet.google.com/uup-wksk-goh OR Phone (US)+1 609-438-1384‬PIN: 254 516 657# \nBoard meetings are normally held on 3rd Wednesday of the month\, 5:30pm at the Clubhouse-15726 Glenshire Drive and via video/phone meeting (subject to change)
URL:https://glenshiredevonshire.org/event/regular-board-meeting-14/
CATEGORIES:Board Meeting
END:VEVENT
END:VCALENDAR